BEGIN:VCALENDAR
PRODID:-//MME-Internettechnik//WebPresenter//DE
VERSION:1.0
BEGIN:VEVENT
DTSTART:20260422T030000Z
DTEND:20260422T030000Z
DESCRIPTION;ENCODING=QUOTED-PRINTABLE:Vera - Mathe=0D=0A=0D=0A
SUMMARY;ENCODING=QUOTED-PRINTABLE:Vera - Mathe
STATUS:NEEDS ACTION
END:VEVENT
END:VCALENDAR
