BEGIN:VCALENDAR
PRODID:-//MME-Internettechnik//WebPresenter//DE
VERSION:1.0
BEGIN:VEVENT
DTSTART:20260520T030000Z
DTEND:20260520T030000Z
DESCRIPTION;ENCODING=QUOTED-PRINTABLE:17:00=0D=0A=0D=0Adigital=0D=0A=0D=0A„Konzentriert und organisiert lernen“=0D=0A=0D=0Ahttps://bielefeld-de.zoom.us/j/61651643270?pwd=YmZPL2M0eXpDdGFEYTV1NmQ2OVJPdz09=0D=0A=0D=0A&nbsp;=0D=0A=0D=0A
SUMMARY;ENCODING=QUOTED-PRINTABLE:„Konzentriert und organisiert lernen“
STATUS:NEEDS ACTION
END:VEVENT
END:VCALENDAR
