BEGIN:VCALENDAR
PRODID:-//MME-Internettechnik//WebPresenter//DE
VERSION:1.0
BEGIN:VEVENT
DTSTART:20260610T150000Z
DTEND:20260610T150000Z
DESCRIPTION;ENCODING=QUOTED-PRINTABLE:digital=0D=0A=0D=0A„Neue Situationen meistern“=0D=0A=0D=0Ahttps://bielefeld-de.zoom.us/j/61651643270?pwd=YmZPL2M0eXpDdGFEYTV1NmQ2OVJPdz09=0D=0A=0D=0A&nbsp;=0D=0A=0D=0A
SUMMARY;ENCODING=QUOTED-PRINTABLE:„Neue Situationen meistern“
STATUS:NEEDS ACTION
END:VEVENT
END:VCALENDAR
